Workbook

Sheet 記入注記
A1: ㈱香山組 指定請求書 入力用画面
A3: １． | B3: 請求者情報（毎回同じです） | K3: ３． | L3: 請求情報（毎月異なります） | AB3: 当座
A4: 1-1. | B4: 会社情報 | L4: 請求回数 | N4: 回目 | AB4: 普通
C5: (1)取引先コード | L5: 請求年月 | M5: 西暦 | O5: 年 | Q5: 月
C6: 登録番号 | F6: 適格請求書発行事業者登録番号 | L6: 請求期間 | M6: 西暦 | N6: 45220 | Q6: 西暦 | R6: 45245 | U6: 0 | X6: 0
C7: 郵便番号 | N7: 請求額本体（税抜） | X7: 今回請求 消費税額 | Z7: 消費税 端数調整欄
C8: 住所 | N8: 累計 | P8: 前回まで累計 | R8: 今回請求額 | T8: 今回請求額 本体内訳
C9: 会社名 | T9: 課税金額 | V9: 非課税金額
C10: 代表者名 | K10: ① | L10: 契約金額 | N10: =P10+R10 -> 0 | R10: =+T10+V10 -> 0 | X10: =ROUNDDOWN(T10*$D$34/100,0) -> 0
C11: ＴＥＬ番号 | K11: ② | L11: 出来高金額･請求金額 | N11: =P11+R11 -> 0 | R11: =+T11+V11 -> 0 | X11: =ROUNDDOWN(T11*$D$34/100,0) -> 0
C12: ＦＡＸ番号 | K12: ③ | L12: 保留金設定額 | N12: =P12+R12 -> 0 | P12: =IF(D30=90,ROUNDDOWN(P11*0.1,-1),0) -> 0 | R12: =T12+V12 -> 0 | T12: =IF(D30=90,ROUNDDOWN(T11*0.1,-1),0) -> 0 | V12: =IF(D30=90,ROUND(V11*0.1,0),0) -> 0 | X12: =ROUNDDOWN(T12*$D$34/100,0) -> 0 | Z12: =X11+Z11 -> 0
C13: E - M A I L | D13: aaaaaaaa@`NOaaaa.jp | K13: ④ | L13: 保留金解除額 | N13: =P13+R13 -> 0 | R13: =T13+V13 -> 0 | X13: =ROUNDDOWN(T13*$D$34/100,0) -> 0
K14: ⑤ | L14: 保留金計 | N14: =N12-N13 -> 0 | P14: =P12-P13 -> 0 | R14: =R12-R13 -> 0 | T14: =T12-T13 -> 0 | X14: =X12-X13 -> 0
A15: 1-2. | B15: 振込先情報 | K15: ⑥ | L15: 支払対象金額 | N15: =N11-N14 -> 0 | P15: =P11-P14 -> 0 | R15: =R11-R14 -> 0 | T15: =T11-T14 -> 0 | V15: =V11-V14 -> 0 | X15: =X11-X14 -> 0
D16: 取引先コードを入力した場合、入力は不要です。 | K16: ⑦ | L16: 残高 | N16: =IF(N10=0,"",N10-N15)
C17: 金融機関名 | Y17: ※消費税額：初期設定では小数点以下切捨てですが、数式変更可能です。
C18: 支店名 | G18: 支店 | K18: A | L18: 今月請求額(課税分) | N18: =+R11-R12 -> 0 | P18: （C－B）
C19: 預金種別 | K19: B | L19: 今月請求額(非課税分) | N19: =+V11 -> 0
C20: 口座番号 | K20: C | L20: 今月請求額合計 | N20: =+N19+N18 -> 0
C21: 口座名義フリガナ | K21: D | L21: 消費税額 | N21: =+T12-X12 -> 0
C22: 口座名義 | K22: E | L22: 請求金額 | N22: =N20+N21 -> 0 | P22: （C＋D）
A23: ２． | B23: 工事情報（契約によって異なります）
C25: (1)部署名
C26: (2)工 事 名
C27: (3)注文番号
C28: (4)請求番号
C29: (5)締日 | D29: 毎月 | F29: 日
C30: 支払率 | E30: ％
C31: 現金 | E31: ％
C32: 手形 | E32: ％ | F32: サイト | G32: =IF(D32="","",120) | H32: 日
C33: でんさい | E33: ％ | F33: サイト | G33: =IF(D33="","",120) | H33: 日
C34: 消費税率 | E34: ％
C35: (7)経過措置
C40: 黄色のセルの部分を全て入力して下さい。
C42: 緑色のセルの部分は該当する場合入力して下さい。
C44: ※入力すると色つきのセルは白色になります。
C45: 色つきのセルが残っている場合は、入力漏れがないか確認してください。
C47: ※入力後、請求書を３部印刷し、押印の上、２部提出してください。

Sheet 入力画面　　軽減税率8%
A1: ㈱香山組 指定請求書 入力用画面
A3: １． | B3: 請求者情報（毎回同じです） | K3: ３． | L3: 請求情報（毎月異なります） 支払年月日欄も確認して下さい | AA3: 当座
A4: 1-1. | B4: 会社情報 | F4: 登録番号 | L4: 請求回数 | M4: 2 | N4: 回目 | T4: 請求内訳等の主な内容を記載して下さい。 | AA4: 普通 | AB4: 支払年月日欄確認手順
C5: (1)取引先コード | F5: 適格請求書発行事業者登録番号を入力して下さい | L5: 請求年月 | M5: 西暦 | R5: 請求内容 | AB5: 1.（１）支払年月日欄」を確認して下さい。
C6: 登録番号 | F6: 申請中の場合：「申請中」と入力して下さい。 | L6: 請求期間 | M6: 開始 | N6: =IF(N5="","",IF(E28=15,EOMONTH(N5,-2)+16,IF(E28=20,EOMONTH(N5,-2)+21,EOMONTH(N5,-2)+16))) | Q6: 終了 | R6: =IF(N5="","",+N5) | AA6: 該当する | AB6: 2.支払年月日欄が祝日等に該当する場合は、「（２）祝日等修正欄」に入力して下さい。
C7: 郵便番号 | F7: 免税事業者の場合：別様式がございます。連絡して下さい。 | L7: （１）支払年月日 | M7: =IF(N5="","",(IF(WEEKDAY(Q7)=7,Q7-1,IF(WEEKDAY(Q7)=1,Q7-2,Q7))+V7)) | O7: 支払予定日 | Q7: =IF(N5="","",IF(E28=15,EOMONTH(N5,0)+25,IF(E28=20,EOMONTH(N5,1),EOMONTH(N5,0)+25))) | T7: （２）祝日等修正 | X7: 0 | AB7: 3.入力型式は、「-1、-2」等マイナス形式で入力して下さい。（支払日は前倒しします。）
C8: 住所 | AB8: 4.修正後、（１）支払年月日 が金融機関の営業日か確認をして下さい。
C9: 会社名
C10: 代表者名 | O10: 請求額本体 | Y10: 今回請求 消費税額 | AA10: 消費税 端数調整欄 | AB10: 消費税 端数調整欄
C11: ＴＥＬ番号 | O11: 累計 | Q11: 前回まで累計 | S11: 今回請求額 | U11: 今回請求額 本体内訳
C12: ＦＡＸ番号 | U12: 課税金額 | W12: 非課税金額
C13: E - M A I L | L13: ① | M13: 契約金額 | O13: =Q13+S13 -> 0 | S13: =+U13+W13 -> 0 | Y13: =ROUNDDOWN(U13*$D$33/100,0) -> 0
L14: ② | M14: 出来高金額･請求金額 | O14: =Q14+S14 -> 0 | S14: =+U14+W14 -> 0 | Y14: =ROUNDDOWN(U14*$D$33/100,0) -> 0
A15: 1-2. | B15: 振込先情報 | L15: ③ | M15: 保留金設定額 | O15: =Q15+S15 -> 0 | S15: =+U15+W15 -> 0 | U15: =IF(D29=90,ROUNDDOWN(U14*0.1,-1),0) -> 0 | W15: =IF(D29=90,ROUNDDOWN(W14*0.1,-1),0) -> 0 | Y15: =ROUNDDOWN(U15*$D$33/100,0) -> 0 | AA15: =Y14+AA14 -> 0 | AB15: =Y14+AB14 -> 0 | AD15: =+AC12 -> 0
C16: 金融機関名 | L16: ④ | M16: 保留金解除額 | O16: =Q16+S16 -> 0 | S16: =+U16+W16 -> 0 | Y16: =ROUNDDOWN(U16*$D$33/100,0) -> 0
C17: 支店名 | G17: 支店 | L17: ⑤ | M17: 保留金計 | O17: =O15-O16 -> 0 | Q17: =Q15-Q16 -> 0 | S17: =S15-S16 -> 0 | U17: =U15-U16 -> 0 | W17: =W15-W16 -> 0 | Y17: =Y15-Y16 -> 0
C18: 預金種別 | L18: ⑥ | M18: 支払対象金額 | O18: =+O14-O17 -> 0 | Q18: =+Q14-Q17 -> 0 | S18: =S14-S17 -> 0 | U18: =U14-U17 -> 0 | W18: =W14-W17 -> 0 | Y18: =Y14-Y17 -> 0
C19: 口座番号 | L19: ⑦ | M19: 残高 | O19: =IF(O13=0,"",O13-O18)
C20: 口座名義フリガナ | Z20: ※消費税額：初期設定では小数点以下切捨てですが、数式変更可能です。
C21: 口座名義 | L21: A | M21: 今月請求額(課税分) | O21: =+U14 -> 0 | Q21: （C－B）
C22: =IF(D34="該当する","消費税法経過措置に基づき請負代金の額は、消費税率８％として算出しています。","") | L22: B | M22: 今月請求額(非課税分) | O22: =+W14 -> 0
A23: ２． | B23: 工事情報（契約によって異なります） | L23: C | M23: 今月請求額合計 | O23: =+O22+O21 -> 0
C24: (1)部署名 | F24: 工事名を入力する部門：施工管理部 | L24: D | M24: 消費税額 | O24: =IF(D6="",0,Y14) -> 0
C25: (2)工 事 名 | L25: E | M25: 請求金額 | O25: =O23+O24 -> 0 | Q25: （C＋D）
C26: (3)注文番号 | F26: 下４桁入力を入力して下さい
C27: (4)請求番号
C28: (5)締 日 | D28: 毎月 | F28: 日
C29: (6)支 払 率 | E29: ％
C30: 現 金 | E30: ％
C31: 手 形 | E31: ％ | F31: サイト | G31: =IF(D31="","",60) | H31: 日
C32: で ん さ い | E32: ％ | F32: サイト | G32: =IF(D32="","",60) | H32: 日
C33: 消 費 税 率 | D33: 8 | E33: ％
C34: (7)経過措置 | E34: =IF(D34="該当する","該当する：2019年3月31日以前に契約し、2019年10月1日以降に完成引渡","")
C36: 黄色のセルの部分を全て入力して下さい。
C38: 緑色のセルの部分は該当する場合入力して下さい。
C40: ※入力すると色つきのセルは白色になります。
C41: 色つきのセルが残っている場合は、入力漏れがないか確認してください。
C43: ※入力後、請求書を３部印刷し、押印の上、２部提出してください。

Sheet 請求書8％
B2: 請 求 書
C4: 株式会社 香山組
N5: 請求年月日 | P5: =+'入力画面 軽減税率8%'!N5 -> 0
C7: =+'入力画面 軽減税率8%'!D24 -> 0 | D7: 御中
K8: 工 事 名 | M8: =+'入力画面 軽減税率8%'!D25 -> 0
B10: 下記のとおり請求いたします。（別紙内訳・明細のとおり） | K10: 内 訳 | N10: 累 計 | P10: 前 回 | S10: 今 回
B11: =IF('入力画面 軽減税率8%'!N6="",0,"請求期間 "&TEXT('入力画面 軽減税率8%'!N6,"YYYY年MM月DD日～")&TEXT('入力画面 軽減税率8%'!R6,"YYYY年MM月DD日")) -> 0 | E11: 請求内容 ※ | G11: =+'入力画面 軽減税率8%'!T5 -> 0 | K11: ① | L11: 契約金額 | N11: =+'入力画面 軽減税率8%'!O13 -> 0 | P11: =+'入力画面 軽減税率8%'!Q13 -> 0 | S11: =+'入力画面 軽減税率8%'!U13 -> 0
D12: 本体価格 | E12: 消費税等 | G12: 合 計 | I12: 税率 | K12: ② | L12: 請求金額 | N12: =+'入力画面 軽減税率8%'!O14 -> 0 | P12: =+'入力画面 軽減税率8%'!Q14 -> 0 | S12: =+'入力画面 軽減税率8%'!S14 -> 0
B13: =IF('入力画面 軽減税率8%'!N5="",0,TEXT('入力画面 軽減税率8%'!N5,"mm")) -> 0 | C13: 月分請求(課税分) | D13: =+'入力画面 軽減税率8%'!U14 -> 0 | E13: =+'入力画面 軽減税率8%'!Y14 -> 0 | G13: =+D13+E13 -> 0 | I13: =+'入力画面 軽減税率8%'!D33 -> 8 | K13: ③ | L13: 保留金設定 | N13: =+'入力画面 軽減税率8%'!O15 -> 0 | P13: =+'入力画面 軽減税率8%'!Q15 -> 0 | S13: ='入力画面 軽減税率8%'!S15 -> 0
B14: =IF(B13=0,0,B13) -> 0 | C14: 月分請求(非課税分) | D14: =+'入力画面 軽減税率8%'!W14 -> 0 | E14: 0 | G14: =+D14+E14 -> 0 | K14: ④ | L14: 保留金解除 | N14: =+'入力画面 軽減税率8%'!O16 -> 0 | P14: =+'入力画面 軽減税率8%'!Q16 -> 0 | S14: =+'入力画面 軽減税率8%'!U16 -> 0
B15: 合 計 | D15: =+D14+D13 -> 0 | E15: =+E14+E13 -> 0 | G15: =+G14+G13 -> 0 | K15: ⑤ | L15: 保留金計（③－④） | N15: =+N13-N14 -> 0 | P15: =+P13-P14 -> 0 | S15: =+S13-S14 -> 0
B16: =IF('入力画面 軽減税率8%'!D33=8,"※ 軽減税率適用","") -> ※ 軽減税率適用 | K16: ⑥ | L16: 支払対象金額（②－⑤） | N16: =+N12-N15 -> 0 | P16: =+P12-P15 -> 0 | S16: =+S12-S15 -> 0
E18: 取引先コード | G18: =+'入力画面 軽減税率8%'!D5 -> 0 | M18: 本 体 価 額 | N18: 消費税等 | O18: 非 課 税 | Q18: 合 計 | S18: 支払年月日
B19: 〒 | C19: =+'入力画面 軽減税率8%'!D7 -> 0 | E19: 登 録 番 号 | G19: =+'入力画面 軽減税率8%'!D6 -> 0 | K19: 請 求 金 額 | M19: =+'入力画面 軽減税率8%'!U14 -> 0 | N19: ='入力画面 軽減税率8%'!AB15 -> 0 | O19: =+'入力画面 軽減税率8%'!W14 -> 0 | Q19: =+M19+N19+O19 -> 0 | S19: =+'入力画面 軽減税率8%'!M7
C20: =IF('入力画面 軽減税率8%'!D8="","",'入力画面 軽減税率8%'!D8) | H20: ㊞ | K20: 保留金設定 | M20: =+'入力画面 軽減税率8%'!U15 -> 0 | N20: =+'入力画面 軽減税率8%'!Y15 -> 0 | O20: =+'入力画面 軽減税率8%'!W15 -> 0 | Q20: =+M20+N20+O20 -> 0 | S20: 注 文 番 号
C21: =+'入力画面 軽減税率8%'!D9 -> 0 | K21: 保留金解除 | M21: =+'入力画面 軽減税率8%'!U16 -> 0 | N21: =+'入力画面 軽減税率8%'!Y16 -> 0 | O21: =+'入力画面 軽減税率8%'!W16 -> 0 | Q21: =+M21+N21+O21 -> 0 | S21: =+'入力画面 軽減税率8%'!D26 -> 0
C22: =+'入力画面 軽減税率8%'!D10 -> 0 | K22: 金額訂正 | S22: 支 払 率 | T22: =+'入力画面 軽減税率8%'!D29 -> 0
E23: 電 話 番 号 | G23: =+'入力画面 軽減税率8%'!D11 -> 0 | K23: 相殺額 | S23: 現 金 | T23: =+'入力画面 軽減税率8%'!D30 -> 0
E24: Ｆ Ａ Ｘ 番 号 | G24: =+'入力画面 軽減税率8%'!D12 -> 0 | K24: 端数調整 | S24: =IF('入力画面 軽減税率8%'!D31>0,"手 形","でんさい") -> でんさい | T24: =IF('入力画面 軽減税率8%'!D31>0,'入力画面 軽減税率8%'!D31,'入力画面 軽減税率8%'!D32) -> 0
E25: E - M A I L | G25: =+'入力画面 軽減税率8%'!D13 -> 0 | K25: 差引支払額 | S25: =IF(S24="","","（サイト）") -> （サイト） | T25: =IF('入力画面 軽減税率8%'!D30="",0,IF('入力画面 軽減税率8%'!D30=100,0,60)) -> 0
B27: 振込先 | C27: 金融機関名 | D27: =+'入力画面 軽減税率8%'!D16:G16 -> 0 | E27: 支 店 名 | G27: =+'入力画面 軽減税率8%'!D17 -> 0
C28: 預金種別 | D28: =+'入力画面 軽減税率8%'!D18:E18 -> 0 | E28: 口 座 番 号 | G28: =+'入力画面 軽減税率8%'!D19 -> 0
C29: 口座名義 | D29: =+'入力画面 軽減税率8%'!D21:I21 -> 0 | E29: カ ナ | G29: =+'入力画面 軽減税率8%'!D20 -> 0

Sheet 入力画面　10％
A1: ㈱香山組 指定請求書 入力用画面
A3: １． | B3: 請求者情報（毎回同じです） | K3: ３． | L3: 請求情報（毎月異なります） 支払年月日欄も確認して下さい | AA3: 当座
A4: 1-1. | B4: 会社情報 | F4: 登録番号 | L4: 請求回数 | M4: 1 | N4: 回目 | T4: 請求内訳等の主な内容を記載して下さい。 | AA4: 普通 | AB4: 支払年月日欄確認手順
C5: (1)取引先コード | F5: 適格請求書発行事業者登録番号を入力して下さい | L5: 請求年月 | M5: 西暦 | R5: 請求内容 | AB5: 1.（１）支払年月日欄」を確認して下さい。
C6: 登録番号 | F6: 申請中の場合：「申請中」と入力して下さい。 | L6: 請求期間 | M6: 開始 | N6: =IF(N5="","",IF(E28=15,EOMONTH(N5,-2)+16,IF(E28=20,EOMONTH(N5,-2)+21,EOMONTH(N5,-2)+16))) | Q6: 終了 | R6: =IF(N5="","",+N5) | AA6: 該当する | AB6: 2.支払年月日欄が祝日等に該当する場合は、「（２）祝日等修正欄」に入力して下さい。
C7: 郵便番号 | F7: 免税事業者：別途様式がございます。連絡して下さい。 | L7: （１）支払年月日 | M7: =IF(N5="","",(IF(WEEKDAY(Q7)=7,Q7-1,IF(WEEKDAY(Q7)=1,Q7-2,Q7))+V7)) | O7: 支払予定日 | Q7: =IF(N5="","",IF(E28=15,EOMONTH(N5,0)+25,IF(E28=20,EOMONTH(N5,1),EOMONTH(N5,0)+25))) | T7: （２）祝日等修正 | X7: 0 | AB7: 3.入力型式は、「-1、-2」等マイナス形式で入力して下さい。（支払日は前倒しします。）
C8: 住所 | AB8: 4.修正後、（１）支払年月日 が金融機関の営業日か確認をして下さい。
C9: 会社名
C10: 代表者名 | N10: 請求額本体 | X10: 今回請求 消費税額 | Z10: 消費税 端数調整欄
C11: ＴＥＬ番号 | N11: 累計 | P11: 前回まで累計 | R11: 今回請求額 | T11: 今回請求額 本体内訳
C12: ＦＡＸ番号 | T12: 課税金額 | V12: 非課税金額
C13: E - M A I L | K13: ① | L13: 契約金額 | N13: =P13+R13 -> 0 | R13: =+T13+V13 -> 0 | X13: =ROUNDDOWN(T13*$D$33/100,0) -> 0
K14: ② | L14: 出来高金額･請求金額 | N14: =P14+R14 -> 0 | R14: =+T14+V14 -> 0 | X14: =ROUNDDOWN(T14*$D$33/100,0) -> 0
A15: 1-2. | B15: 振込先情報 | K15: ③ | L15: 保留金設定額 | N15: =P15+R15 -> 0 | R15: =+T15+V15 -> 0 | T15: =IF(D29=90,ROUNDDOWN(T14*0.1,-1),0) -> 0 | V15: =IF(D29=90,ROUNDDOWN(V14*0.1,-1),0) -> 0 | X15: =ROUNDDOWN(T15*$D$33/100,0) -> 0 | Z15: =X14+Z14 -> 0 | AD15: =+AB43 -> 0
C16: 金融機関名 | K16: ④ | L16: 保留金解除額 | N16: =P16+R16 -> 0 | R16: =+T16+V16 -> 0 | X16: =ROUNDDOWN(T16*$D$33/100,0) -> 0
C17: 支店名 | G17: 支店 | K17: ⑤ | L17: 保留金計 | N17: =N15-N16 -> 0 | P17: =P15-P16 -> 0 | R17: =+R15-R16 -> 0 | T17: =+T15-T16 -> 0 | V17: =V15-V16 -> 0 | X17: =X15-X16 -> 0
C18: 預金種別 | K18: ⑥ | L18: 支払対象金額 | N18: =+N14-N17 -> 0 | P18: =+P14-P17 -> 0 | R18: =R14-R17 -> 0 | T18: =T14-T17 -> 0 | V18: =V14-V17 -> 0 | X18: =X14-X17 -> 0
C19: 口座番号 | K19: ⑦ | L19: 残高 | N19: =IF(N13=0,"",N13-N18)
C20: 口座名義フリガナ | Y20: ※消費税額：初期設定では小数点以下切捨てですが、数式変更可能です。
C21: 口座名義 | K21: A | L21: 今月請求額(課税分) | N21: =+T14 -> 0 | P21: （C－B）
C22: =IF(D34="該当する","消費税法経過措置に基づき請負代金の額は、消費税率８％として算出しています。","") | K22: B | L22: 今月請求額(非課税分) | N22: =+V14 -> 0
A23: ２． | B23: 工事情報（契約によって異なります） | K23: C | L23: 今月請求額合計 | N23: =+N22+N21 -> 0
C24: (1)部署名 | F24: 工事名を入力する部門：施工管理部 | K24: D | L24: 消費税額 | N24: =IF(D6="",0,X14) -> 0
C25: (2)工 事 名 | K25: E | L25: 請求金額 | N25: =N23+N24 -> 0 | P25: （C＋D）
C26: (3)注文番号 | F26: 下４桁入力を入力して下さい
C27: (4)請求番号
C28: (5)締 日 | D28: 毎月 | F28: 日
C29: (6)支 払 率 | E29: ％
C30: 現 金 | E30: ％
C31: 手 形 | E31: ％ | F31: サイト | G31: =IF(D31="","",60) | H31: 日
C32: で ん さ い | E32: ％ | F32: サイト | G32: =IF(D32="","",60) | H32: 日
C33: 消 費 税 率 | D33: 10 | E33: ％
C34: (7)経過措置 | E34: =IF(D34="該当する","該当する：2019年3月31日以前に契約し、2019年10月1日以降に完成引渡","")
C36: 黄色のセルの部分を全て入力して下さい。
C38: 緑色のセルの部分は該当する場合入力して下さい。
C40: ※入力すると色つきのセルは白色になります。
C41: 色つきのセルが残っている場合は、入力漏れがないか確認してください。
C43: ※入力後、請求書を３部印刷し、押印の上、２部提出してください。

Sheet 請求書10％
B2: 請 求 書
C4: 株式会社 香山組
N5: 請求年月日 | P5: =+'入力画面 10％'!N5 -> 0
C7: =+'入力画面 10％'!D24 -> 0 | D7: 御中
K8: 工 事 名 | M8: =+'入力画面 10％'!D25 -> 0
B10: 下記のとおり請求いたします。（別紙内訳・明細のとおり） | K10: 内 訳 | N10: 累 計 | P10: 前 回 | S10: 今 回
B11: =IF('入力画面 10％'!N6="",0,"請求期間 "&TEXT('入力画面 10％'!N6,"YYYY年MM月DD日～")&TEXT('入力画面 10％'!R6,"YYYY年MM月DD日")) -> 0 | E11: 請求内容 | F11: =+'入力画面 10％'!T5 -> 0 | K11: ① | L11: 契約金額 | N11: ='入力画面 10％'!N13 -> 0 | P11: =+'入力画面 10％'!P13 -> 0 | S11: =+'入力画面 10％'!R13 -> 0
D12: 本体価格 | E12: 消費税等 | G12: 合 計 | I12: 税率 | K12: ② | L12: 請求金額 | N12: =+'入力画面 10％'!N14 -> 0 | P12: =+'入力画面 10％'!P14 -> 0 | S12: =+'入力画面 10％'!R14 -> 0
B13: =IF('入力画面 10％'!N5="",0,TEXT('入力画面 10％'!N5,"mm")) -> 0 | C13: 月分請求(課税分) | D13: =+'入力画面 10％'!T14 -> 0 | E13: =+'入力画面 10％'!X14 -> 0 | G13: =+D13+E13 -> 0 | I13: =+'入力画面 10％'!D33 -> 10 | K13: ③ | L13: 保留金設定 | N13: =+'入力画面 10％'!N15 -> 0 | P13: =+'入力画面 10％'!P15 -> 0 | S13: =+'入力画面 10％'!R15 -> 0
B14: =IF(B13=0,0,B13) -> 0 | C14: 月分請求(非課税分) | D14: =+'入力画面 10％'!V14 -> 0 | E14: 0 | G14: =+D14+E14 -> 0 | K14: ④ | L14: 保留金解除 | N14: =+'入力画面 10％'!N16 -> 0 | P14: ='入力画面 10％'!P16 -> 0 | S14: =+'入力画面 10％'!R16 -> 0
B15: 合 計 | D15: =+D14+D13 -> 0 | E15: =+E14+E13 -> 0 | G15: =+G14+G13 -> 0 | K15: ⑤ | L15: 保留金計（③－④） | N15: =+N13-N14 -> 0 | P15: =+P13-P14 -> 0 | S15: =+'入力画面 10％'!R17 -> 0
K16: ⑥ | L16: 支払対象金額（②－⑤） | N16: =+N12-N15 -> 0 | P16: =+P12-P15 -> 0 | S16: =+S12-S15 -> 0
E18: 取引先コード | G18: =+'入力画面 10％'!D5 -> 0 | M18: 本 体 価 額 | N18: 消費税等 | O18: 非 課 税 | Q18: 合 計 | S18: 支払年月日
B19: 〒 | C19: =+'入力画面 10％'!D7 -> 0 | E19: 登 録 番 号 | G19: =+'入力画面 10％'!D6 -> 0 | K19: 請 求 金 額 | M19: =+'入力画面 10％'!T14 -> 0 | N19: ='入力画面 10％'!Z15 -> 0 | O19: =+'入力画面 10％'!V14 -> 0 | Q19: =+M19+N19+O19 -> 0 | S19: =+'入力画面 10％'!M7
C20: =IF('入力画面 10％'!D8="","",'入力画面 10％'!D8) | H20: ㊞ | K20: 保留金設定 | M20: =+'入力画面 10％'!T15 -> 0 | N20: =+'入力画面 10％'!X15 -> 0 | O20: =+'入力画面 10％'!V15 -> 0 | Q20: =+M20+N20+O20 -> 0 | S20: 注 文 番 号
C21: =+'入力画面 10％'!D9 -> 0 | K21: 保留金解除 | M21: =+'入力画面 10％'!T16 -> 0 | N21: =+'入力画面 10％'!X16 -> 0 | O21: =+'入力画面 10％'!V16 -> 0 | Q21: =+M21+N21+O21 -> 0 | S21: =+'入力画面 10％'!D26 -> 0
C22: =+'入力画面 10％'!D10 -> 0 | K22: 金額訂正 | S22: 支 払 率 | T22: =+'入力画面 10％'!D29 -> 0
E23: 電 話 番 号 | G23: =+'入力画面 10％'!D11 -> 0 | K23: 相殺額 | S23: 現 金 | T23: =+'入力画面 10％'!D30 -> 0
E24: Ｆ Ａ Ｘ 番 号 | G24: =+'入力画面 10％'!D12 -> 0 | K24: 端数調整 | S24: =IF('入力画面 10％'!D31>0,"手 形","でんさい") -> でんさい | T24: =IF('入力画面 10％'!D31>0,'入力画面 10％'!D31,'入力画面 10％'!D32) -> 0
E25: E - M A I L | G25: =+'入力画面 10％'!D13 -> 0 | K25: 差引支払額 | S25: =IF(S24="","","（サイト）") -> （サイト） | T25: =IF('入力画面 10％'!D30="",0,IF('入力画面 10％'!D30=100,0,60)) -> 0
B27: 振込先 | C27: 金融機関名 | D27: =+'入力画面 10％'!D16 -> 0 | E27: 支 店 名 | G27: =+'入力画面 10％'!D17 -> 0
C28: 預金種別 | D28: =+'入力画面 10％'!D18 -> 0 | E28: 口 座 番 号 | G28: =+'入力画面 10％'!D19 -> 0
C29: 口座名義 | D29: =+'入力画面 10％'!D21 -> 0 | E29: カ ナ | G29: =+'入力画面 10％'!D20 -> 0

Sheet 注意文
A3: (注) | B3: １． | C3: 本請求書は注文(契約)１件ごとに作成して下さい。
B4: ２． | C4: 内訳書についても２部、添付の上ご提出下さい。
C5: （１）出来高内訳書については、出来高内訳書様式と同じ項目が記載されて
C6: いる場合は、取引先各社様の様式を添付して下さい。
C7: （２）資機材等の内訳書については、取引先各社様の様式を添付して下さい。
B9: （１） | C9: 業者コード№は注文書、売買契約書の業者コードを記入して下さい。
C10: （注文書等の発行がなく分からない場合は、現場責任者に確認して下さい。）
B11: （２） | C11: 作業所名を記入して下さい。（分からない場合は、現場責任者に確認して下さい。）
B12: （３） | C12: 注文書、売買契約書の注文番号を記入して下さい。
B13: （４） | C13: 締日を記入して下さい。
C14: （締日については、現場責任者に確認して下さい。）
C15: ※請求書は、請求書の締日から５日以内に本社へ到着するようにして下さい。
C16: 原則、期日までに請求書が到着しなかった場合、請求書に記載されている
C17: 月の翌月を請求対象月に変更させていただくことになります。

Sheet 押印枠
B1: 決 裁 | F1: 合議 | I1: 経理
A5: 決裁 | F5: 合議 | I5: 経理

Sheet Sheet1
A1: 消費税法経過措置に基づき請負代金の額は、消費税率８％として算出しています。
A14: 消費税法経過措置に基づき請負代金の額は、消費税率８％として算出しています。

Sheet 互換性レポート
B1: seikyu_hyoshi_2023.08.23.xls の互換性レポート
B2: 2023/8/23 9:39 に実行
B4: このブックで使用されている次の機能は、以前のバージョンの Excel ではサポートされていません。このブックを以前のバージョンの Excel で開くか、以前のファイル形式で保存すると、それらの機能が失われるか、正常に実行されなくなる可能性があります。
B6: 機能の大幅な損失 | E6: 出現数 | F6: バージョン
B8: 一部のセルに、条件付き書式の範囲が重複して適用されています。以前のバージョンの Excel では、重複のあるセルに対して、一部の条件付き書式ルールの評価が行われません。重複のあるセルでは、異なる条件付き書式が表示されます。 | E8: 1
E9: 記入注記'!D28 | F9: Excel 97-2003
B11: 一部のセルに、[条件を満たす場合は停止] オプションがオフになっている条件付き書式が設定されています。以前のバージョンの Excel では、このオプションは認識されず、最初に満たされた条件の後で停止されます。 | E11: 93
E12: 記入注記'!D5:I29 | F12: Excel 97-2003
E13: 記入注記'!N5
E14: 記入注記'!D30:D32
E15: 記入注記'!N19:O19
E16: 記入注記'!P10:Q13
E17: 記入注記'!M4
E18: 記入注記'!P5
E19: 記入注記'!X10:Y11
E20: 記入注記'!T13:Y13
E21: 記入注記'!H30
E22: 記入注記'!E32
E23: 記入注記'!R10:W11
E24: 入力画面 軽減税率8%'!D5:T5 | F24: Excel 97-2003
E25: 入力画面 軽減税率8%'!M4
E26: 入力画面 軽減税率8%'!T10:W10
E27: 入力画面 軽減税率8%'!X10:Y11
E28: 入力画面 軽減税率8%'!V13:Y13
E29: 入力画面 軽減税率8%'!H32
E30: 入力画面 軽減税率8%'!D29:D34
E31: 入力画面 軽減税率8%'!D12:Q12
E32: 入力画面 軽減税率8%'!D10:S10
E33: 入力画面 軽減税率8%'!D11:Q11
E34: 入力画面 軽減税率8%'!D15:T28
E35: 入力画面 軽減税率8%'!D13:Q13
E36: 入力画面 軽減税率8%'!T12
... E44: 入力画面 軽減税率8%'!D6:X6
E45: 入力画面 10％'!D5:T5 | F45: Excel 97-2003
E46: 入力画面 10％'!M4
E47: 入力画面 10％'!T10:W10
E48: 入力画面 10％'!X10:Y11
E49: 入力画面 10％'!V13:Y13
E50: 入力画面 10％'!H32
E51: 入力画面 10％'!D29:D34
...
